BEGIN:VCALENDAR
VERSION:2.0
PRODID:-//Mango Tango Official Website - ECPv6.15.20//NONSGML v1.0//EN
CALSCALE:GREGORIAN
METHOD:PUBLISH
X-WR-CALNAME:Mango Tango Official Website
X-ORIGINAL-URL:https://mangotangomusic.com
X-WR-CALDESC:Events for Mango Tango Official Website
REFRESH-INTERVAL;VALUE=DURATION:PT1H
X-Robots-Tag:noindex
X-PUBLISHED-TTL:PT1H
BEGIN:VTIMEZONE
TZID:Europe/Berlin
BEGIN:DAYLIGHT
TZOFFSETFROM:+0100
TZOFFSETTO:+0200
TZNAME:CEST
DTSTART:20250330T010000
END:DAYLIGHT
BEGIN:STANDARD
TZOFFSETFROM:+0200
TZOFFSETTO:+0100
TZNAME:CET
DTSTART:20251026T010000
END:STANDARD
BEGIN:DAYLIGHT
TZOFFSETFROM:+0100
TZOFFSETTO:+0200
TZNAME:CEST
DTSTART:20260329T010000
END:DAYLIGHT
BEGIN:STANDARD
TZOFFSETFROM:+0200
TZOFFSETTO:+0100
TZNAME:CET
DTSTART:20261025T010000
END:STANDARD
BEGIN:DAYLIGHT
TZOFFSETFROM:+0100
TZOFFSETTO:+0200
TZNAME:CEST
DTSTART:20270328T010000
END:DAYLIGHT
BEGIN:STANDARD
TZOFFSETFROM:+0200
TZOFFSETTO:+0100
TZNAME:CET
DTSTART:20271031T010000
END:STANDARD
END:VTIMEZONE
BEGIN:VEVENT
DTSTART;TZID=Europe/Berlin:20260507T000000
DTEND;TZID=Europe/Berlin:20260507T235959
DTSTAMP:20260424T175612
CREATED:20260219T111830Z
LAST-MODIFIED:20260219T111830Z
UID:745-1778112000-1778198399@mangotangomusic.com
SUMMARY:mango tango - idymy w groove! // Live at PUFA Puszczykowo
DESCRIPTION:Get ready for an intimate night of pure groove! Mango Tango brings their signature blend of funk and soul to PUFA Puszczykowo\, turning the space into a playground of rhythm\, energy\, and unforgettable live vibes. \nExperience fresh arrangements\, tight grooves\, and music that invites you to move\, smile\, and lose yourself in the moment. May 7\, 2026\, is your chance to feel the magic of Mango Tango up close! \nDetails coming soon!
URL:https://mangotangomusic.com/event/mango-tango-idymy-w-groove-live-at-pufa-puszczykowo/
END:VEVENT
BEGIN:VEVENT
DTSTART;TZID=Europe/Berlin:20260508T210000
DTEND;TZID=Europe/Berlin:20260508T230000
DTSTAMP:20260424T175612
CREATED:20260219T111113Z
LAST-MODIFIED:20260219T111113Z
UID:742-1778274000-1778281200@mangotangomusic.com
SUMMARY:mango tango - idymy w groove! Live at Muzyka na Nowo - Poznań
DESCRIPTION:mango tango – idymy w groove! \n  \nGet ready to move to the rhythm as Mango Tango takes the stage with their signature blend of funk and soul! “Idymy in Groove!” is more than a concert—it’s a journey through infectious grooves\, irresistible beats\, and music that makes you feel alive. \nJoin us in Poznań on May 8\, 2026 at 21:00\, for an unforgettable evening where classic funk meets fresh\, modern energy. Let the music take over\, and groove with Mango Tango like never before! \nTickets are limited—don’t miss out on the vibe of the year!
URL:https://mangotangomusic.com/event/mango-tango-idymy-w-groove-live-at-muzyka-na-nowo-poznan/
LOCATION:Muzyka Na Nowo\, Nowowiejskiego 13/15\, Poznań\, 61-732\, Poland
END:VEVENT
END:VCALENDAR